BEGIN:VCALENDAR
VERSION:2.0
PRODID:-//Coopcarvajal - ECPv6.14.1//NONSGML v1.0//EN
CALSCALE:GREGORIAN
METHOD:PUBLISH
X-WR-CALNAME:Coopcarvajal
X-ORIGINAL-URL:https://coopcarvajal.com
X-WR-CALDESC:Eventos para Coopcarvajal
REFRESH-INTERVAL;VALUE=DURATION:PT1H
X-Robots-Tag:noindex
X-PUBLISHED-TTL:PT1H
BEGIN:VTIMEZONE
TZID:America/Bogota
BEGIN:STANDARD
TZOFFSETFROM:-0500
TZOFFSETTO:-0500
TZNAME:-05
DTSTART:20260101T000000
END:STANDARD
END:VTIMEZONE
BEGIN:VEVENT
DTSTART;VALUE=DATE:20260420
DTEND;VALUE=DATE:20260425
DTSTAMP:20260421T052627
CREATED:20260420T200551Z
LAST-MODIFIED:20260420T200551Z
UID:5455-1776643200-1777075199@coopcarvajal.com
SUMMARY:Día del niño - Luces\, cámara y acción
DESCRIPTION:Celebra el día del niño en el cine. \n \n  \n  \nSolicita el beneficio Aquí. \nSi tienes dudas sobre como diligenciar el formato comunícate con nosotros al 310 539 2221. \n  \nConoce los términos y condiciones de la actividad:  \n\nPara participar de este beneficio\, el asociado deberá estar activo y al día con la Cooperativa.\nEl asociado debe tener los datos personales actualizados.\nCupos limitados.\nCada asociado podrá acceder a 3 combos de cine\, cada uno compuesto por: 1 boleta Premium\, 1 crispeta\, 1 perro caliente\, 1 gaseosa.\nEste beneficio no es redimible en dinero.\nValor por combo: $43.300 por cada uno.  El Subsidio por parte de la Cooperativa es del  50%. El valor a pagar por cada combo: $21.650\, diferido hasta en 3 cuotas mensuales sin intereses.\nLos asociados deberán inscribirse mediante formulario entre el 20 y el 24 de abril. La inscripción está sujeta a cupos disponibles.\n\n  \n  \n 
URL:https://coopcarvajal.com/evento/dia-del-nino-luces-camara-y-accion/
END:VEVENT
END:VCALENDAR